Workbook
Name ACEquipmentType: Lists!$J$34:$J$37
Name ACEquipmentTypeWater: Lists!$I$12:$I$13
Name Admin_Address_1: Lists!$F$42
Name Admin_Address_2: Lists!$F$43
Name Admin_Address_3: Lists!$F$44
Name Admin_Address_4: Lists!$F$45
Name Admin_Address_5: Lists!$F$46
Name Admin_Comments_1: Lists!$F$38
Name Admin_Comments_2: Lists!$F$39
Name Admin_Comments_3: Lists!$F$40
Name Admin_Comments_4: Lists!$F$41
Name Admin_Data: Lists!$G$29:$G$46
Name Admin_Mail_to_Cust: Lists!$F$35
Name Admin_Note_to_Payroll: Lists!$F$37
Name Admin_Send_to_IPCO: Lists!$F$36
Name AllStates: Lists!$C$2:$D$52
Name AllStatesInitials: Lists!$C$2:$C$52
Name ApplicantStatus: Lists!$I$2:$I$6
Name BuildingHours: Lists!$E$2:$F$27
Name BuildingType: Lists!$E$2:$E$27
Name ButtonFinal: Lists!$F$30
Name ButtonPreliminary: Lists!$F$29
Name cc_List: Lists!$E$48:$E$55
Name ChillerType: Lists!$I$15:$I$17
Name ComboBoxRep: Lists!$F$34
Name CoolingHours: Lists!$E$2:$G$27
Name CustomerRepLocations: Lists!$H$28:$I$52
Name CustomerReps: Lists!$H$28:$H$55
Name EMCSSystemTypes: Lists!$J$15:$J$22
Name exteriorNLC: Lists!$J$30:$J$32
Name Facility_Name: Lists!$I$22:$I$23
Name FacilityState: Lists!$H$15:$H$16
Name Form_Data: Lists!$F$29:$F$46
Name GroupA: 'HVAC Efficiency Tables'!$F$3:$M$7
Name GroupB: 'HVAC Efficiency Tables'!$F$13:$M$13
Name GroupD: 'HVAC Efficiency Tables'!$F$14:$M$18
Name GroupE: 'HVAC Efficiency Tables'!$F$19:$M$19
Name GroupF: 'HVAC Efficiency Tables'!$F$24:$M$26
Name GroupG: 'HVAC Efficiency Tables'!$F$27:$M$32
Name GroupH: 'HVAC Efficiency Tables'!$F$33:$M$37
Name Handling: Lists!$I$19
Name Handling_Admin: Lists!$G$37
Name Handling_Instructions: Lists!$I$19:$I$20
Name HandlingInstructions: 'Data Extraction'!$G$7
Name HVACEfficiencies: 'HVAC Efficiency Tables'!$E$47:$W$149
Name HVACEfficiencyTables: 'HVAC Efficiency Tables'!$A$1:$K$37
Name HVACEfficiencyTablesCode: 'HVAC Efficiency Tables'!$A$1:$M$37
Name HVACEffLookUps: 'HVAC Efficiency Tables'!$E$46:$K$136
Name interiorNLC: Lists!$J$24:$J$28
Name ProjectType: Lists!$H$10:$H$13
Name RegionLookUp: Lists!$L$1:$O$184
Name Regions: Lists!$H$18:$H$22
Name ResistanceType01: 'HVAC Efficiency Tables'!$AD$11:$AD$13
Name ResistanceType02: 'HVAC Efficiency Tables'!$AD$14:$AD$16
Name ResistanceType03: 'HVAC Efficiency Tables'!$AD$17:$AD$19
Name ResistanceType04: 'HVAC Efficiency Tables'!$AD$20:$AD$22
Name ResistanceType05: 'HVAC Efficiency Tables'!$AD$23:$AD$25
Name ResistanceType06: 'HVAC Efficiency Tables'!$AD$26:$AD$28
Name ResistanceType07: 'HVAC Efficiency Tables'!$AD$29:$AD$31
Name ResistanceType08: 'HVAC Efficiency Tables'!$AD$32:$AD$34

Sheet Internal Notes
A2: To update macro forms
A3: IMPORTANT!!! Click AdminForm or paymentVerficationForm Double click on blank box to pull up macro code
A5: To change pre-fix on file name
A6: Go to List tab. Change F31.
A8: To update letter to include all new measures (No letter in 2021 app)
A9: Update the cell in column C two rows below the last new measure.
A10: In the 2018 application, the last new measure is in C49. Update the concatenate formula in cell C51.
A12: Update Incent Calc Table. Add new measures (Not used in 2021)
A14: Update internal Master App YYYY macros
A15: Not critical but consider updating ClearMaster macro to help make testing easier.
A16: Make sure to the first line of code MATCHES the file name.
A21: To prepare customer copy
... A26: Hide unnecssary tabs. Show the following:
B27: Welcome
B28: Preliminary Application
B29: Final Application
B30: HVAC Worksheet
B31: Controls Worksheet
B32: Custom Projects
B33: L3 LLLC | C33: <-New in 2021
B34: Specific Qualification
B35: Terms & Conditions
A36: Go to Page layout in each visible tab. Hide columns that have savings logic.
A37: Select all tabs. Go to Page Layout. Hide Gridlines and Headings.
A38: Lock workbook and visible worksheets with 27290825
A40: To prepare official master copy
A41: Rename as Master App YYYY.xlsm.
A42: If using macro to clear test data
B43: View Code
B44: Under ClearMaster (), make sure ActiveWorkbook.Name = "Master App YYYY.xlsm" Then
B45: Run ClearMaster
A46: Save copy here: \\austin\Customer_Relations_Research\PROGRAMS and PROJECTS\Programs Rider\Commercial & Industrial\Building Efficiency\Applications\2011 Applications\Masters
A47: Hide unnessary tabs. Show following:
B48: Internal Notes (maybe hide)
B49: Incent Calc Table
B50: Welcome
B51: Data Extraction
B52: Preliminary Application
B53: Final Application
B54: HVAC Worksheet
...

Sheet Letter
C2: =TODAY()+7-WEEKDAY(TODAY()+7-4) -> 46295
C5: =CONCATENATE('Final Application'!B39,", ",'Final Application'!M39) -> ,
C6: ='Final Application'!B35 -> 0
C7: =Letter_Background!D10 -> 0
C8: =Letter_Background!D11 -> 0, 0 0
C10: ="Dear " &Letter_Background!C8&" "&Letter_Background!D8&":" -> Dear 0 :
C12: =IF('Final Application'!AL34=TRUE,Letter_Background!D4,IF('Final Application'!AK34=TRUE,Letter_Background!C4,"?????????")) -> ?????????
C14: =IF('Final Application'!AL34=TRUE,Letter_Background!D5,IF('Final Application'!AK34=TRUE,Letter_Background!C5,"?????????")) -> ?????????
C16: =IF('Final Application'!AL34=TRUE,Letter_Background!D6,IF('Final Application'!AK34=TRUE,Letter_Background!C6,"?????????")) -> ?????????
C18: =IF('Final Application'!AL34=TRUE,Letter_Background!D7,IF('Final Application'!AK34=TRUE,Letter_Background!C7,"?????????")) -> ?????????
C20: Thank you,
C26: Sheree Willhite, P.E.
C27: Senior Engineer
C28: swillhite@idahopower.com
C32: =IF(D32="","","cc:") -> cc: | D32: Brian Fletcher, Idaho Power
C33: =IF(D33="","",IF(C32="","cc:",""))
C34: =IF(D34="","",IF(AND(C33="",C32=""),"cc:",""))

Sheet Letter_Background
C1: Applicant | D1: Third Party
B3: New | F3: Name Split into Columns
B4: Paragraph 1 | C4: ="Enclosed is a Commercial & Industrial Energy Efficiency incentive check for energy efficiency designed and built into the "&C11& " " & C9&" in "&E8&" (Commercial & Industrial Energy Efficiency Application "&LEFT('Data Extraction'!A7,2)&"-"&RIGHT('Data Extraction'!A7,3)&"). The $"&'Final Application'!AF148&" payment is our way of reminding you that energy efficiency pays." -> Enclosed is a Commercial & Industrial Energy Efficiency incentive check for energy efficiency designed and built into the ??????? in ??????? (Commercial & Industrial Energy Efficiency Application -). The $ payment is our way of reminding you that energy efficiency pays. | D4: ="Enclosed is a Commercial & Industrial Energy Efficiency incentive check for energy efficiency designed and built into the "&C11& " " & C9 & " in "&E8&" (Commercial & Industrial Energy Efficiency Application "&LEFT('Data Extraction'!A7,2)&"-"&RIGHT('Data Extraction'!A7,3)&"). The $"&'Final Application'!AF148&" payment is our way of reminding you that energy efficiency pays." -> Enclosed is a Commercial & Industrial Energy Efficiency incentive check for energy efficiency designed and built into the ??????? in ??????? (Commercial & Industrial Energy Efficiency Application -). The $ payment is our way of reminding you that energy efficiency pays. | J4: =IF(I4="",IF(H4="",IF(G4="",IF(F4="","No Primary Contact Entered in Application",F4),G4),H4),I4) -> No Primary Contact Entered in Application
B5: Paragraph 2 | C5: =IF(C12=1,"We are glad to provide you with this incentive payment for the energy efficiency feature - "&C51&" - specified and installed in this facility.","We are glad to provide you with this incentive payment for the energy efficiency features - "&C51&" - specified and installed in this facility.") -> #REF! | D5: =IF(C12=1,"We are glad to provide you with this incentive payment for "&C9&" for the energy efficiency feature - "&C51&" - specified and installed into their facility.","We are glad to provide you with this incentive payment for "&C9&" for the energy efficiency features - "&C51&" - specified and installed in their facility.") -> #REF! | J5: =IF(I5="",IF(H5="",IF(G5="",IF(F5="","No Third Party Contact Entered in Application",F5),G5),H5),I5) -> No Third Party Contact Entered in Application
B6: Paragraph 3 | C6: ="Please feel free to share your energy-saving story with others. With Idaho Power's incentives available, energy efficiency pays more than ever." -> Please feel free to share your energy-saving story with others. With Idaho Power's incentives available, energy efficiency pays more than ever. | D6: ="We appreciate their investment in energy efficiency and your interest in helping them. We both know that they will appreciate electric bills that are lower than they otherwise would have been." -> We appreciate their investment in energy efficiency and your interest in helping them. We both know that they will appreciate electric bills that are lower than they otherwise would have been.
B7: Paragraph 4 | C7: ="We appreciate working with you on this project and want to offer our help again. When you have future energy-saving projects, just call me at "&C10&"." -> We appreciate working with you on this project and want to offer our help again. When you have future energy-saving projects, just call me at (208) 388-6717. | D7: ="With Idaho Power's incentives available, energy efficient designs pay more than ever. If you have future energy-savings projects in any other facilities, we'd be glad to help again. Just give me a call at "&C10&"." -> With Idaho Power's incentives available, energy efficient designs pay more than ever. If you have future energy-savings projects in any other facilities, we'd be glad to help again. Just give me a call at (208) 388-6717.
B8: name | C8: =IF('Final Application'!B39="",'Final Application'!B35,'Final Application'!B39) -> 0 | E8: =IF('Final Application'!T11="","???????",'Final Application'!T11) -> ??????? | F8: Facility City
B9: business | E9: anyone else to cc
B10: ipco phone | C10: (208) 388-6717 | D10: ='Data Extraction'!BK7 -> 0 | E10: letter address
B11: project type | C11: =IF('Final Application'!Z21="","???????",IF('Final Application'!Z21="new","new",IF('Final Application'!Z21="remodel","remodeled",IF('Final Application'!Z21="expansion","expanded",IF('Final Application'!Z21="expansion & remodel","expanded and remodeled"))))) -> ??????? | D11: ='Data Extraction'!BL7 & ", " & 'Data Extraction'!BM7 & " " & 'Data Extraction'!BN7 -> 0, 0 0 | E11: letter city, state & zip
B12: # of measures | C12: =COUNTIF('Final Application'!AK68:AK126,"True") -> 0 | D12: =IF(C9="",IF('Final Application'!B9="","………built into the "&C11&" ??????? in "&E8&"……….","…….built into the "&C11&" "&'Final Application'!B9&" in "&E8&"……."),"…….built into the "&C11&" "&C9&" in "&E8&"…….") -> ………built into the ??????? ??????? in ???????……….
C13: interior light load reduction | D13: =IF(E13=FALSE,"",IF(C$12=1,C13,IF(F13="never ever last",C13&", ",IF(F13="second to last",C13&" & ",IF(F13="last",C13,"?"))))) | E13: ='Final Application'!AK68 -> FALSE | F13: =IF(F14="never ever last","never ever last",IF(F14="second to last","never ever last",IF(OR(F14="never last",F14="last"),IF(E13=TRUE,"second to last","never last"),IF(F14="not last",IF(E13=TRUE,"last","not last"))))) -> #REF!
C14: exterior light load reduction | D14: =IF(E14=FALSE,"",IF(C$12=1,C14,IF(F14="never ever last",C14&", ",IF(F14="second to last",C14&" & ",IF(F14="last",C14,"?"))))) | E14: ='Final Application'!AK69 -> FALSE | F14: =IF(F15="never ever last","never ever last",IF(F15="second to last","never ever last",IF(OR(F15="never last",F15="last"),IF(E14=TRUE,"second to last","never last"),IF(F15="not last",IF(E14=TRUE,"last","not last"))))) -> #REF!
C15: daylight photo controls | D15: =IF(E15=FALSE,"",IF(C$12=1,C15,IF(F15="never ever last",C15&", ",IF(F15="second to last",C15&" & ",IF(F15="last",C15,"?"))))) | E15: ='Final Application'!AK70 -> FALSE | F15: =IF(F16="never ever last","never ever last",IF(F16="second to last","never ever last",IF(OR(F16="never last",F16="last"),IF(E15=TRUE,"second to last","never last"),IF(F16="not last",IF(E15=TRUE,"last","not last"))))) -> #REF!
C16: occupancy sensors | D16: =IF(E16=FALSE,"",IF(C$12=1,C16,IF(F16="never ever last",C16&", ",IF(F16="second to last",C16&" & ",IF(F16="last",C16,"?"))))) | E16: ='Final Application'!AK74 -> FALSE | F16: =IF(F17="never ever last","never ever last",IF(F17="second to last","never ever last",IF(OR(F17="never last",F17="last"),IF(E16=TRUE,"second to last","never last"),IF(F17="not last",IF(E16=TRUE,"last","not last"))))) -> #REF!
C17: high efficiency exit signs | D17: =IF(E17=FALSE,"",IF(C$12=1,C17,IF(F17="never ever last",C17&", ",IF(F17="second to last",C17&" & ",IF(F17="last",C17,"?"))))) | E17: ='Final Application'!AK75 -> FALSE | F17: =IF(F18="never ever last","never ever last",IF(F18="second to last","never ever last",IF(OR(F18="never last",F18="last"),IF(E17=TRUE,"second to last","never last"),IF(F18="not last",IF(E17=TRUE,"last","not last"))))) -> #REF!
C18: efficient AC & HP units | D18: =IF(E18=FALSE,"",IF(C$12=1,C18,IF(F18="never ever last",C18&", ",IF(F18="second to last",C18&" & ",IF(F18="last",C18,"?"))))) | E18: ='Final Application'!AK83 -> FALSE | F18: =IF(F19="never ever last","never ever last",IF(F19="second to last","never ever last",IF(OR(F19="never last",F19="last"),IF(E18=TRUE,"second to last","never last"),IF(F19="not last",IF(E18=TRUE,"last","not last"))))) -> #REF!
C19: efficient VRF units | D19: =IF(E19=FALSE,"",IF(C$12=1,C19,IF(F19="never ever last",C19&", ",IF(F19="second to last",C19&" & ",IF(F19="last",C19,"?"))))) | E19: ='Final Application'!AK84 -> FALSE | F19: =IF(F20="never ever last","never ever last",IF(F20="second to last","never ever last",IF(OR(F20="never last",F20="last"),IF(E19=TRUE,"second to last","never last"),IF(F20="not last",IF(E19=TRUE,"last","not last"))))) -> #REF!
C20: efficient chillers | D20: =IF(E20=FALSE,"",IF(C$12=1,C20,IF(F20="never ever last",C20&", ",IF(F20="second to last",C20&" & ",IF(F20="last",C20,"?"))))) | E20: ='Final Application'!AK85 -> FALSE | F20: =IF(F21="never ever last","never ever last",IF(F21="second to last","never ever last",IF(OR(F21="never last",F21="last"),IF(E20=TRUE,"second to last","never last"),IF(F21="not last",IF(E20=TRUE,"last","not last"))))) -> #REF!
C21: air side economizers | D21: =IF(E21=FALSE,"",IF(C$12=1,C21,IF(F21="never ever last",C21&", ",IF(F21="second to last",C21&" & ",IF(F21="last",C21,"?"))))) | E21: ='Final Application'!AK86 -> FALSE | F21: =IF(F22="never ever last","never ever last",IF(F22="second to last","never ever last",IF(OR(F22="never last",F22="last"),IF(E21=TRUE,"second to last","never last"),IF(F22="not last",IF(E21=TRUE,"last","not last"))))) -> #REF!
C22: direct evaporative cooler | D22: =IF(E22=FALSE,"",IF(C$12=1,C22,IF(F22="never ever last",C22&", ",IF(F22="second to last",C22&" & ",IF(F22="last",C22,"?"))))) | E22: ='Final Application'!AK89 -> FALSE | F22: =IF(F23="never ever last","never ever last",IF(F23="second to last","never ever last",IF(OR(F23="never last",F23="last"),IF(E22=TRUE,"second to last","never last"),IF(F23="not last",IF(E22=TRUE,"last","not last"))))) -> #REF!
C23: high volume low speed fan | D23: =IF(E23=FALSE,"",IF(C$12=1,C23,IF(F23="never ever last",C23&", ",IF(F23="second to last",C23&" & ",IF(F23="last",C23,"?"))))) | E23: ='Final Application'!AK90 -> FALSE | F23: =IF(F24="never ever last","never ever last",IF(F24="second to last","never ever last",IF(OR(F24="never last",F24="last"),IF(E23=TRUE,"second to last","never last"),IF(F24="not last",IF(E23=TRUE,"last","not last"))))) -> #REF!
C24: reflective roof treatment | D24: =IF(E24=FALSE,"",IF(C$12=1,C24,IF(F24="never ever last",C24&", ",IF(F24="second to last",C24&" & ",IF(F24="last",C24,"?"))))) | E24: ='Final Application'!AK96 -> FALSE | F24: =IF(F25="never ever last","never ever last",IF(F25="second to last","never ever last",IF(OR(F25="never last",F25="last"),IF(E24=TRUE,"second to last","never last"),IF(F25="not last",IF(E24=TRUE,"last","not last"))))) -> #REF!
C25: energy management control systems | D25: =IF(E25=FALSE,"",IF(C$12=1,C25,IF(F25="never ever last",C25&", ",IF(F25="second to last",C25&" & ",IF(F25="last",C25,"?"))))) | E25: ='Final Application'!AK101 -> FALSE | F25: =IF(F26="never ever last","never ever last",IF(F26="second to last","never ever last",IF(OR(F26="never last",F26="last"),IF(E25=TRUE,"second to last","never last"),IF(F26="not last",IF(E25=TRUE,"last","not last"))))) -> #REF!
C26: guest room EMS | D26: =IF(E26=FALSE,"",IF(C$12=1,C26,IF(F26="never ever last",C26&", ",IF(F26="second to last",C26&" & ",IF(F26="last",C26,"?"))))) | E26: ='Final Application'!AK102 -> FALSE | F26: =IF(F27="never ever last","never ever last",IF(F27="second to last","never ever last",IF(OR(F27="never last",F27="last"),IF(E26=TRUE,"second to last","never last"),IF(F27="not last",IF(E26=TRUE,"last","not last"))))) -> #REF!
C27: HVAC variable speed drives | D27: =IF(E27=FALSE,"",IF(C$12=1,C27,IF(F27="never ever last",C27&", ",IF(F27="second to last",C27&" & ",IF(F27="last",C27,"?"))))) | E27: ='Final Application'!AK103 -> FALSE | F27: =IF(F28="never ever last","never ever last",IF(F28="second to last","never ever last",IF(OR(F28="never last",F28="last"),IF(E27=TRUE,"second to last","never last"),IF(F28="not last",IF(E27=TRUE,"last","not last"))))) -> #REF!
C28: kitchen hood supply & exhaust variable speed drive | D28: =IF(E28=FALSE,"",IF(C$12=1,C28,IF(F28="never ever last",C28&", ",IF(F28="second to last",C28&" & ",IF(F28="last",C28,"?"))))) | E28: ='Final Application'!AK104 -> FALSE | F28: =IF(F29="never ever last","never ever last",IF(F29="second to last","never ever last",IF(OR(F29="never last",F29="last"),IF(E28=TRUE,"second to last","never last"),IF(F29="not last",IF(E28=TRUE,"last","not last"))))) -> #REF!
C29: onion/potato shed ventilation variable speed drive | D29: =IF(E29=FALSE,"",IF(C$12=1,C29,IF(F29="never ever last",C29&", ",IF(F29="second to last",C29&" & ",IF(F29="last",C29,"?"))))) | E29: ='Final Application'!AK105 -> FALSE | F29: =IF(F33="never ever last","never ever last",IF(F33="second to last","never ever last",IF(OR(F33="never last",F33="last"),IF(E29=TRUE,"second to last","never last"),IF(F33="not last",IF(E29=TRUE,"last","not last"))))) -> #REF!
C30: dairy vacuum pump variable speed drive | D30: =IF(E30=FALSE,"",IF(C$12=1,C30,IF(F30="never ever last",C30&", ",IF(F30="second to last",C30&" & ",IF(F30="last",C30,"?"))))) | E30: ='Final Application'!AK106 -> FALSE | F30: =IF(F34="never ever last","never ever last",IF(F34="second to last","never ever last",IF(OR(F34="never last",F34="last"),IF(E30=TRUE,"second to last","never last"),IF(F34="not last",IF(E30=TRUE,"last","not last"))))) -> #REF!
C31: wall block heater controls | D31: =IF(E31=FALSE,"",IF(C$12=1,C31,IF(F31="never ever last",C31&", ",IF(F31="second to last",C31&" & ",IF(F31="last",C31,"?"))))) | E31: ='Final Application'!AK107 -> FALSE | F31: =IF(F35="never ever last","never ever last",IF(F35="second to last","never ever last",IF(OR(F35="never last",F35="last"),IF(E31=TRUE,"second to last","never last"),IF(F35="not last",IF(E31=TRUE,"last","not last"))))) -> #REF!
C32: engine block heater controls | D32: =IF(E32=FALSE,"",IF(C$12=1,C32,IF(F32="never ever last",C32&", ",IF(F32="second to last",C32&" & ",IF(F32="last",C32,"?"))))) -> #REF! | E32: ='Final Application'!#REF! -> #REF! | F32: =IF(F36="never ever last","never ever last",IF(F36="second to last","never ever last",IF(OR(F36="never last",F36="last"),IF(E32=TRUE,"second to last","never last"),IF(F36="not last",IF(E32=TRUE,"last","not last"))))) -> #REF!
C33: efficient laundry machines | D33: =IF(E33=FALSE,"",IF(C$12=1,C33,IF(F33="never ever last",C33&", ",IF(F33="second to last",C33&" & ",IF(F33="last",C33,"?"))))) | E33: ='Final Application'!AK112 -> FALSE | F33: =IF(F34="never ever last","never ever last",IF(F34="second to last","never ever last",IF(OR(F34="never last",F34="last"),IF(E33=TRUE,"second to last","never last"),IF(F34="not last",IF(E33=TRUE,"last","not last"))))) -> #REF!
C34: Energy Star U/C dishwashers | D34: =IF(E34=FALSE,"",IF(C$12=1,C34,IF(F34="never ever last",C34&", ",IF(F34="second to last",C34&" & ",IF(F34="last",C34,"?"))))) | E34: ='Final Application'!AK113 -> FALSE | F34: =IF(F35="never ever last","never ever last",IF(F35="second to last","never ever last",IF(OR(F35="never last",F35="last"),IF(E34=TRUE,"second to last","never last"),IF(F35="not last",IF(E34=TRUE,"last","not last"))))) -> #REF!
C35: Energy Star commercial dishwashers | D35: =IF(E35=FALSE,"",IF(C$12=1,C35,IF(F35="never ever last",C35&", ",IF(F35="second to last",C35&" & ",IF(F35="last",C35,"?"))))) | E35: ='Final Application'!AK117 -> FALSE | F35: =IF(F36="never ever last","never ever last",IF(F36="second to last","never ever last",IF(OR(F36="never last",F36="last"),IF(E35=TRUE,"second to last","never last"),IF(F36="not last",IF(E35=TRUE,"last","not last"))))) -> #REF!
C36: head pressure controls | D36: =IF(E36=FALSE,"",IF(C$12=1,C36,IF(F36="never ever last",C36&", ",IF(F36="second to last",C36&" & ",IF(F36="last",C36,"?"))))) -> #REF! | E36: ='Final Application'!#REF! -> #REF! | F36: =IF(F37="never ever last","never ever last",IF(F37="second to last","never ever last",IF(OR(F37="never last",F37="last"),IF(E36=TRUE,"second to last","never last"),IF(F37="not last",IF(E36=TRUE,"last","not last"))))) -> #REF!
C37: floating suction controls | D37: =IF(E37=FALSE,"",IF(C$12=1,C37,IF(F37="never ever last",C37&", ",IF(F37="second to last",C37&" & ",IF(F37="last",C37,"?"))))) -> #REF! | E37: ='Final Application'!#REF! -> #REF! | F37: =IF(F38="never ever last","never ever last",IF(F38="second to last","never ever last",IF(OR(F38="never last",F38="last"),IF(E37=TRUE,"second to last","never last"),IF(F38="not last",IF(E37=TRUE,"last","not last"))))) -> #REF!
C38: efficient condensers | D38: =IF(E38=FALSE,"",IF(C$12=1,C38,IF(F38="never ever last",C38&", ",IF(F38="second to last",C38&" & ",IF(F38="last",C38,"?"))))) | E38: ='Final Application'!AK126 -> FALSE | F38: =IF(F39="never ever last","never ever last",IF(F39="second to last","never ever last",IF(OR(F39="never last",F39="last"),IF(E38=TRUE,"second to last","never last"),IF(F39="not last",IF(E38=TRUE,"last","not last"))))) -> #REF!
C39: refrigerator strip curtain | D39: =IF(E39=FALSE,"",IF(C$12=1,C39,IF(F39="never ever last",C39&", ",IF(F39="second to last",C39&" & ",IF(F39="last",C39,"?"))))) | E39: ='Final Application'!AK127 -> FALSE | F39: =IF(F40="never ever last","never ever last",IF(F40="second to last","never ever last",IF(OR(F40="never last",F40="last"),IF(E39=TRUE,"second to last","never last"),IF(F40="not last",IF(E39=TRUE,"last","not last"))))) -> #REF!
C40: freezer strip curtain | D40: =IF(E40=FALSE,"",IF(C$12=1,C40,IF(F40="never ever last",C40&", ",IF(F40="second to last",C40&" & ",IF(F40="last",C40,"?"))))) | E40: ='Final Application'!AK128 -> FALSE | F40: =IF(F41="never ever last","never ever last",IF(F41="second to last","never ever last",IF(OR(F41="never last",F41="last"),IF(E40=TRUE,"second to last","never last"),IF(F41="not last",IF(E40=TRUE,"last","not last"))))) -> #REF!
C41: automatic high speed door between freezer and refrigerator | D41: =IF(E41=FALSE,"",IF(C$12=1,C41,IF(F41="never ever last",C41&", ",IF(F41="second to last",C41&" & ",IF(F41="last",C41,"?"))))) | E41: ='Final Application'!AK129 -> FALSE | F41: =IF(F42="never ever last","never ever last",IF(F42="second to last","never ever last",IF(OR(F42="never last",F42="last"),IF(E41=TRUE,"second to last","never last"),IF(F42="not last",IF(E41=TRUE,"last","not last"))))) -> #REF!
...

Sheet Data Extraction
A1: PreApp | AW1: 2018 change - no longer requiring check boxes for these measures. Leaving blank.
A2: App No | B2: Date PreApp Received | C2: Region | D2: CR | E2: Applicant Name | F2: Account Number | G2: Submit Date | H2: Project / Facility Name | I2: Project Description | J2: Project Site Address | K2: Project Site City | L2: Project Site State | M2: Project Site Zip | N2: Mailing Address | O2: Mailing City | P2: Mailing State | Q2: Mailing Zip | R2: Primary Contact Name | S2: Primary Title | T2: Primary Phone | U2: Primary E-mail | V2: Secondary Contact Name | W2: Secondary Title | X2: Secondary Phone | Y2: Secondary E-mail | Z2: Building Type | AA2: Describe "Other" | AB2: Applicant Status | AC2: Planned Start Date | AD2: Planned Completion Date | AE2: Building Area [s.f.] | AF2: Project Type | AG2: Architect Company Name | AH2: Architect Contact Name | AI2: Architect Phone | AJ2: Architect E-mail | AK2: Mechanical Engineer Company Name | AL2: Mechanical Contact Name | AM2: Mechanical Phone | AN2: Mechanical E-mail | AO2: Electrical Engineer Company Name | AP2: Electrical Contact Name | AQ2: Electrical Phone | AR2: Electrical E-mail | AS2: General Contractor Company Name | AT2: General Contact Name | AU2: General Phone | AV2: General E-mail | AW2: L1-Interior Light Load Reduction | AX2: L2-Exterior Light Load Reduction | AY2: L3-Daylight Photo Controls | AZ2: L4-Occupancy Sensors | BA2: L5-High Efficiency Exit Signs | BB2: A1-Efficient AC or HP Units | BC2: A2-Efficient VRF Units | BD2: A3-Efficient Chillers | BE2: A4-Air Side Economizer | BF2: A5-Direct Evaporative Coolers | BG2: A6-High Speed Low Volumn Fan | BH2: B1-Reflective Roof Treatment | BI2: C1-Energy Management Control System | BJ2: C2-Guest Room Energy Mgt | BK2: C3-Variable Speed Drives | BL2: C4-Kitchen Hood Supply & Exhaust VSD | BM2: C5-Onion/Potato Shed Ventilation VSD | BN2: W1-Efficient Laundry Machines | BO2: D1-Energy Star U/C D/W | BP2: D2-Energy Star Commercial D/W | BQ2: R1-Head Pressure Controls | BR2: R2-Floating Suction Controls | BS2: R3-Efficient Condensers | BT2: P1-Smart Strip Power Strip | BU2: Custom Projects
C3: =IFERROR(VLOOKUP('Preliminary Application'!AF11,RegionLookUp,4,FALSE),"") | E3: =IF('Preliminary Application'!B7="","",LEFT('Preliminary Application'!B7,50)) | F3: =IF('Preliminary Application'!T7="","",'Preliminary Application'!T7) | H3: =IF('Preliminary Application'!B9="","",'Preliminary Application'!B9) | I3: =IF('Preliminary Application'!B19="","",'Preliminary Application'!B19) | J3: =IF('Preliminary Application'!B11="","",'Preliminary Application'!B11) | K3: =IF('Preliminary Application'!T11="","",'Preliminary Application'!T11) | L3: =IF('Preliminary Application'!AD11="","",'Preliminary Application'!AD11) | M3: =IF('Preliminary Application'!AF11="","",'Preliminary Application'!AF11) | N3: =IF('Preliminary Application'!B13="","",'Preliminary Application'!B13) | O3: =IF('Preliminary Application'!T13="","",'Preliminary Application'!T13) | P3: =IF('Preliminary Application'!AD13="","",'Preliminary Application'!AD13) | Q3: =IF('Preliminary Application'!AF13="","",'Preliminary Application'!AF13) | R3: =IF('Preliminary Application'!B15="","",'Preliminary Application'!B15) | S3: =IF('Preliminary Application'!M15="","",'Preliminary Application'!M15) | T3: =IF('Preliminary Application'!T15="","",'Preliminary Application'!T15) | U3: =IF('Preliminary Application'!Z15="","",'Preliminary Application'!Z15) | V3: =IF('Preliminary Application'!B17="","",'Preliminary Application'!B17) | W3: =IF('Preliminary Application'!M17="","",'Preliminary Application'!M17) | X3: =IF('Preliminary Application'!T17="","",'Preliminary Application'!T17) | Y3: =IF('Preliminary Application'!Z17="","",'Preliminary Application'!Z17) | Z3: =IF('Preliminary Application'!T9="","",PROPER('Preliminary Application'!T9)) | AB3: =IF('Preliminary Application'!T19="","",'Preliminary Application'!T19) | AC3: =IF('Preliminary Application'!B21=0,"",'Preliminary Application'!B21) | AD3: =IF('Preliminary Application'!M21=0,"",'Preliminary Application'!M21) | AE3: =IF('Preliminary Application'!T21="","",'Preliminary Application'!T21) | AF3: =IF('Preliminary Application'!Z21="","",PROPER('Preliminary Application'!Z21)) | AG3: =IF('Preliminary Application'!B26="","",'Preliminary Application'!B26) | AH3: =IF('Preliminary Application'!M26="","",'Preliminary Application'!M26) | AI3: =IF('Preliminary Application'!T26="","",'Preliminary Application'!T26) | AJ3: =IF('Preliminary Application'!Z26="","",'Preliminary Application'!Z26) | AK3: =IF('Preliminary Application'!B28="","",'Preliminary Application'!B28) | AL3: =IF('Preliminary Application'!M28="","",'Preliminary Application'!M28) | AM3: =IF('Preliminary Application'!T28="","",'Preliminary Application'!T28) | AN3: =IF('Preliminary Application'!Z28="","",'Preliminary Application'!Z28) | AO3: =IF('Preliminary Application'!B30="","",'Preliminary Application'!B30) | AP3: =IF('Preliminary Application'!M30="","",'Preliminary Application'!M30) | AQ3: =IF('Preliminary Application'!T30="","",'Preliminary Application'!T30) | AR3: =IF('Preliminary Application'!Z30="","",'Preliminary Application'!Z30) | AS3: =IF('Preliminary Application'!B32="","",'Preliminary Application'!B32) | AT3: =IF('Preliminary Application'!M32="","",'Preliminary Application'!M32) | AU3: =IF('Preliminary Application'!T32="","",'Preliminary Application'!T32) | AV3: =IF('Preliminary Application'!Z32="","",'Preliminary Application'!Z32) | BU3: ='Preliminary Application'!AV54 -> FALSE | LQ3: =IF('HVAC Worksheet'!B11="","",'HVAC Worksheet'!B11) | LR3: =IF('HVAC Worksheet'!D11="","",'HVAC Worksheet'!D11)
A4: Admin Form | E4: Preliminary Application | DC4: x | DK4: x | JU4: X | KX4: x | LQ4: X | MJ4: x | ACA4: X | AFR4: X | AIE4: x | AKS4: x | API4: x
A5: FinalApp | CK5: x | DC5: 2021 change - different measure | DK5: 2021 change - new measures | EP5: 2021 change - updated to be 4a - Economizer (air cooled) | EU5: 2021 change - new measures | EZ5: 2021 change - updated to be 5a. | FE5: 2026 change - new measures | FO5: 2026 change - new measures | GD5: 2018 - change from tons to units | HG5: 2026 change - different measures. | HL5: No longer in Use | HV5: x | IV5: 2026 change - updated to be R1 | JP5: No longer in Use | KO5: 2021 - changed to be just CA5 | KX5: Air-Cooled AC/HP | LF5: new in 2021 | LI5: new in 2021 | LL5: new in 2021 | LY5: new in 2021 | MB5: new in 2021 | ME5: new in 2021 | MR5: new in 2021 | MU5: new in 2021 | MX5: new in 2021 | NK5: new in 2021 | NN5: new in 2021 | NQ5: new in 2021 | OD5: new in 2021 | OG5: new in 2021 | OJ5: new in 2021 | OW5: new in 2021 | OZ5: new in 2021 | PC5: new in 2021 | PP5: new in 2021 | PS5: new in 2021 | PV5: new in 2021 | QI5: new in 2021 | QL5: new in 2021 | QO5: new in 2021 | RB5: new in 2021 | RE5: new in 2021 | RH5: new in 2021 | RU5: new in 2021 | RX5: new in 2021 | SA5: new in 2021 | SN5: new in 2021 | SQ5: new in 2021 | ST5: new in 2021 | TG5: new in 2021 | TJ5: new in 2021 | TM5: new in 2021 | TZ5: new in 2021 | UC5: new in 2021 | UF5: new in 2021 | US5: new in 2021 | UV5: new in 2021 | UY5: new in 2021 | VL5: new in 2021 | VO5: new in 2021 | VR5: new in 2021 | VW5: Water-Cooled AC/HP | ACA5: Efficienct VRF | AFR5: Efficienct Chillers | AIE5: Energy Management | AIH5: Change in 2018 | AIK5: Remove in 2018 | AIS5: Change in 2018 | AIV5: Remove in 2018 | AJD5: Change in 2018 | AJG5: Remove in 2018 | AJO5: Change in 2018 | AJR5: Remove in 2018 | AJZ5: Change in 2018 | AKC5: Remove in 2018 | AKK5: Change in 2018 | AKN5: Remove in 2018 | AKS5: HVAC Variable Speed Drives | API5: 2023 change - new measure
